BEGIN:VCALENDAR
VERSION:2.0
PRODID:-//Appell Center For The Performing Arts - ECPv6.15.20//NONSGML v1.0//EN
CALSCALE:GREGORIAN
METHOD:PUBLISH
X-WR-CALNAME:Appell Center For The Performing Arts
X-ORIGINAL-URL:https://appellcenter.org
X-WR-CALDESC:Events for Appell Center For The Performing Arts
REFRESH-INTERVAL;VALUE=DURATION:PT1H
X-Robots-Tag:noindex
X-PUBLISHED-TTL:PT1H
BEGIN:VTIMEZONE
TZID:America/New_York
BEGIN:DAYLIGHT
TZOFFSETFROM:-0500
TZOFFSETTO:-0400
TZNAME:EDT
DTSTART:20250309T070000
END:DAYLIGHT
BEGIN:STANDARD
TZOFFSETFROM:-0400
TZOFFSETTO:-0500
TZNAME:EST
DTSTART:20251102T060000
END:STANDARD
BEGIN:DAYLIGHT
TZOFFSETFROM:-0500
TZOFFSETTO:-0400
TZNAME:EDT
DTSTART:20260308T070000
END:DAYLIGHT
BEGIN:STANDARD
TZOFFSETFROM:-0400
TZOFFSETTO:-0500
TZNAME:EST
DTSTART:20261101T060000
END:STANDARD
BEGIN:DAYLIGHT
TZOFFSETFROM:-0500
TZOFFSETTO:-0400
TZNAME:EDT
DTSTART:20270314T070000
END:DAYLIGHT
BEGIN:STANDARD
TZOFFSETFROM:-0400
TZOFFSETTO:-0500
TZNAME:EST
DTSTART:20271107T060000
END:STANDARD
END:VTIMEZONE
BEGIN:VEVENT
DTSTART;TZID=America/New_York:20260109T190000
DTEND;TZID=America/New_York:20260109T190000
DTSTAMP:20260424T084928
CREATED:20251202T182848Z
LAST-MODIFIED:20251202T182848Z
UID:10001189-1767985200-1767985200@appellcenter.org
SUMMARY:CAPFILM: MOONLIGHT 10th Anniversary
DESCRIPTION:
URL:https://appellcenter.org/show/capfilm-moonlight/
LOCATION:Capitol Theatre\, 50 N George St\, York\, PA\, 17401\, United States
CATEGORIES:Film
ATTACH;FMTTYPE=image/jpeg:https://appellcenter.org/wp-content/uploads/Moonlight_hero1.jpg
ORGANIZER;CN="Appell Center for the Performing Arts":MAILTO:boxoffice@appellcenter.org
END:VEVENT
BEGIN:VEVENT
DTSTART;TZID=America/New_York:20260116T190000
DTEND;TZID=America/New_York:20260116T190000
DTSTAMP:20260424T084928
CREATED:20251202T190813Z
LAST-MODIFIED:20251202T190813Z
UID:10001190-1768590000-1768590000@appellcenter.org
SUMMARY:CAPFILM: ANIME NIGHT - WATANABE
DESCRIPTION:
URL:https://appellcenter.org/show/capfilm-anime-night-watanabe/
LOCATION:Capitol Theatre\, 50 N George St\, York\, PA\, 17401\, United States
CATEGORIES:Film
ATTACH;FMTTYPE=image/jpeg:https://appellcenter.org/wp-content/uploads/AnimeNight-Watanabe_Hero-scaled.jpg
ORGANIZER;CN="Appell Center for the Performing Arts":MAILTO:boxoffice@appellcenter.org
END:VEVENT
BEGIN:VEVENT
DTSTART;TZID=America/New_York:20260131T190000
DTEND;TZID=America/New_York:20260131T190000
DTSTAMP:20260424T084928
CREATED:20251223T182615Z
LAST-MODIFIED:20260112T161321Z
UID:10001204-1769886000-1769886000@appellcenter.org
SUMMARY:CAPFILM: GODZILLA (1954)
DESCRIPTION:
URL:https://appellcenter.org/show/capfilm-godzilla-1954/
LOCATION:Capitol Theatre\, 50 N George St\, York\, PA\, 17401\, United States
CATEGORIES:Film
ATTACH;FMTTYPE=image/jpeg:https://appellcenter.org/wp-content/uploads/HD-wallpaper-godzilla-1954-movie-hq-godzilla-1954-2019.jpg
ORGANIZER;CN="Appell Center for the Performing Arts":MAILTO:boxoffice@appellcenter.org
END:VEVENT
END:VCALENDAR