BEGIN:VCALENDAR
VERSION:2.0
PRODID:-//Appell Center For The Performing Arts - ECPv6.15.20//NONSGML v1.0//EN
CALSCALE:GREGORIAN
METHOD:PUBLISH
X-ORIGINAL-URL:https://appellcenter.org
X-WR-CALDESC:Events for Appell Center For The Performing Arts
REFRESH-INTERVAL;VALUE=DURATION:PT1H
X-Robots-Tag:noindex
X-PUBLISHED-TTL:PT1H
BEGIN:VTIMEZONE
TZID:America/New_York
BEGIN:DAYLIGHT
TZOFFSETFROM:-0500
TZOFFSETTO:-0400
TZNAME:EDT
DTSTART:20240310T070000
END:DAYLIGHT
BEGIN:STANDARD
TZOFFSETFROM:-0400
TZOFFSETTO:-0500
TZNAME:EST
DTSTART:20241103T060000
END:STANDARD
BEGIN:DAYLIGHT
TZOFFSETFROM:-0500
TZOFFSETTO:-0400
TZNAME:EDT
DTSTART:20250309T070000
END:DAYLIGHT
BEGIN:STANDARD
TZOFFSETFROM:-0400
TZOFFSETTO:-0500
TZNAME:EST
DTSTART:20251102T060000
END:STANDARD
BEGIN:DAYLIGHT
TZOFFSETFROM:-0500
TZOFFSETTO:-0400
TZNAME:EDT
DTSTART:20260308T070000
END:DAYLIGHT
BEGIN:STANDARD
TZOFFSETFROM:-0400
TZOFFSETTO:-0500
TZNAME:EST
DTSTART:20261101T060000
END:STANDARD
END:VTIMEZONE
BEGIN:VEVENT
DTSTART;TZID=America/New_York:20251129T140000
DTEND;TZID=America/New_York:20251129T140000
DTSTAMP:20260420T133236
CREATED:20250207T145050Z
LAST-MODIFIED:20250801T132923Z
UID:10000967-1764424800-1764424800@appellcenter.org
SUMMARY:YORK SYMPHONY'S HOLIDAY POPS SPECTACULAR
DESCRIPTION:
URL:https://appellcenter.org/show/york-symphonys-holiday-pops-spectacular-4/
LOCATION:Strand Theatre\, 50 N George Street\, York\, PA\, 17401\, United States
CATEGORIES:Classical,Holiday
ATTACH;FMTTYPE=image/jpeg:https://appellcenter.org/wp-content/uploads/YSO-2526-Pops-2-Holiday-Pops-1500x1000-1.jpg
ORGANIZER;CN="Appell Center for the Performing Arts":MAILTO:boxoffice@appellcenter.org
END:VEVENT
BEGIN:VEVENT
DTSTART;TZID=America/New_York:20251129T193000
DTEND;TZID=America/New_York:20251129T193000
DTSTAMP:20260420T133236
CREATED:20250207T145040Z
LAST-MODIFIED:20251113T213220Z
UID:10000969-1764444600-1764444600@appellcenter.org
SUMMARY:YORK SYMPHONY'S HOLIDAY POPS SPECTACULAR
DESCRIPTION:
URL:https://appellcenter.org/show/york-symphonys-holiday-pops-spectacular-5/
LOCATION:Strand Theatre\, 50 N George Street\, York\, PA\, 17401\, United States
CATEGORIES:Classical,Holiday
ATTACH;FMTTYPE=image/jpeg:https://appellcenter.org/wp-content/uploads/YSO-2526-Pops-2-Holiday-Pops-1500x1000-1.jpg
ORGANIZER;CN="Appell Center for the Performing Arts":MAILTO:boxoffice@appellcenter.org
END:VEVENT
END:VCALENDAR