BEGIN:VCALENDAR
VERSION:2.0
PRODID:-//Appell Center For The Performing Arts - ECPv6.15.20//NONSGML v1.0//EN
CALSCALE:GREGORIAN
METHOD:PUBLISH
X-WR-CALNAME:Appell Center For The Performing Arts
X-ORIGINAL-URL:https://appellcenter.org
X-WR-CALDESC:Events for Appell Center For The Performing Arts
REFRESH-INTERVAL;VALUE=DURATION:PT1H
X-Robots-Tag:noindex
X-PUBLISHED-TTL:PT1H
BEGIN:VTIMEZONE
TZID:America/New_York
BEGIN:DAYLIGHT
TZOFFSETFROM:-0500
TZOFFSETTO:-0400
TZNAME:EDT
DTSTART:20240310T070000
END:DAYLIGHT
BEGIN:STANDARD
TZOFFSETFROM:-0400
TZOFFSETTO:-0500
TZNAME:EST
DTSTART:20241103T060000
END:STANDARD
BEGIN:DAYLIGHT
TZOFFSETFROM:-0500
TZOFFSETTO:-0400
TZNAME:EDT
DTSTART:20250309T070000
END:DAYLIGHT
BEGIN:STANDARD
TZOFFSETFROM:-0400
TZOFFSETTO:-0500
TZNAME:EST
DTSTART:20251102T060000
END:STANDARD
BEGIN:DAYLIGHT
TZOFFSETFROM:-0500
TZOFFSETTO:-0400
TZNAME:EDT
DTSTART:20260308T070000
END:DAYLIGHT
BEGIN:STANDARD
TZOFFSETFROM:-0400
TZOFFSETTO:-0500
TZNAME:EST
DTSTART:20261101T060000
END:STANDARD
END:VTIMEZONE
BEGIN:VEVENT
DTSTART;TZID=America/New_York:20250201T150000
DTEND;TZID=America/New_York:20250201T150000
DTSTAMP:20260423T042520
CREATED:20241211T211818Z
LAST-MODIFIED:20241211T211818Z
UID:10000925-1738422000-1738422000@appellcenter.org
SUMMARY:FILM APPRECIATION - TWO OF A KIND: HAROLD AND MAUDE
DESCRIPTION:
URL:https://appellcenter.org/show/film-appreciation-two-of-a-kind-harold-and-maude/
LOCATION:West Classroom\, 50 N. George Street\, York\, PA\, 17401\, United States
CATEGORIES:Film,Workshops & Classes
ATTACH;FMTTYPE=image/jpeg:https://appellcenter.org/wp-content/uploads/Harold-and-Maude.jpg
ORGANIZER;CN="Appell Center for the Performing Arts":MAILTO:boxoffice@appellcenter.org
END:VEVENT
BEGIN:VEVENT
DTSTART;TZID=America/New_York:20250208T150000
DTEND;TZID=America/New_York:20250208T150000
DTSTAMP:20260423T042520
CREATED:20241211T211823Z
LAST-MODIFIED:20250208T172359Z
UID:10000926-1739026800-1739026800@appellcenter.org
SUMMARY:POSTPONED: FILM APPRECIATION - TWO OF A KIND: THUNDERBOLT AND LIGHTFOOT
DESCRIPTION:
URL:https://appellcenter.org/show/film-appreciation-two-of-a-kind-thunderbolt-and-lightfoot/
LOCATION:West Classroom\, 50 N. George Street\, York\, PA\, 17401\, United States
CATEGORIES:Film,Workshops & Classes
ATTACH;FMTTYPE=image/jpeg:https://appellcenter.org/wp-content/uploads/Thunderbolt-and-Lightfoot.jpg
ORGANIZER;CN="Appell Center for the Performing Arts":MAILTO:boxoffice@appellcenter.org
END:VEVENT
BEGIN:VEVENT
DTSTART;TZID=America/New_York:20250215T150000
DTEND;TZID=America/New_York:20250215T150000
DTSTAMP:20260423T042520
CREATED:20241211T211827Z
LAST-MODIFIED:20241211T211827Z
UID:10000927-1739631600-1739631600@appellcenter.org
SUMMARY:FILM APPRECIATION - TWO OF A KIND: THELMA AND LOUISE
DESCRIPTION:
URL:https://appellcenter.org/show/film-appreciation-two-of-a-kind-thelma-and-louise/
LOCATION:West Classroom\, 50 N. George Street\, York\, PA\, 17401\, United States
CATEGORIES:Film,Workshops & Classes
ATTACH;FMTTYPE=image/jpeg:https://appellcenter.org/wp-content/uploads/Thelma-and-Louise.jpg
ORGANIZER;CN="Appell Center for the Performing Arts":MAILTO:boxoffice@appellcenter.org
END:VEVENT
END:VCALENDAR