BEGIN:VCALENDAR
VERSION:2.0
PRODID:-//Appell Center For The Performing Arts - ECPv6.15.20//NONSGML v1.0//EN
CALSCALE:GREGORIAN
METHOD:PUBLISH
X-WR-CALNAME:Appell Center For The Performing Arts
X-ORIGINAL-URL:https://appellcenter.org
X-WR-CALDESC:Events for Appell Center For The Performing Arts
REFRESH-INTERVAL;VALUE=DURATION:PT1H
X-Robots-Tag:noindex
X-PUBLISHED-TTL:PT1H
BEGIN:VTIMEZONE
TZID:America/New_York
BEGIN:DAYLIGHT
TZOFFSETFROM:-0500
TZOFFSETTO:-0400
TZNAME:EDT
DTSTART:20230312T070000
END:DAYLIGHT
BEGIN:STANDARD
TZOFFSETFROM:-0400
TZOFFSETTO:-0500
TZNAME:EST
DTSTART:20231105T060000
END:STANDARD
BEGIN:DAYLIGHT
TZOFFSETFROM:-0500
TZOFFSETTO:-0400
TZNAME:EDT
DTSTART:20240310T070000
END:DAYLIGHT
BEGIN:STANDARD
TZOFFSETFROM:-0400
TZOFFSETTO:-0500
TZNAME:EST
DTSTART:20241103T060000
END:STANDARD
BEGIN:DAYLIGHT
TZOFFSETFROM:-0500
TZOFFSETTO:-0400
TZNAME:EDT
DTSTART:20250309T070000
END:DAYLIGHT
BEGIN:STANDARD
TZOFFSETFROM:-0400
TZOFFSETTO:-0500
TZNAME:EST
DTSTART:20251102T060000
END:STANDARD
END:VTIMEZONE
BEGIN:VEVENT
DTSTART;TZID=America/New_York:20241214T190000
DTEND;TZID=America/New_York:20241214T190000
DTSTAMP:20260419T093428
CREATED:20240823T150354Z
LAST-MODIFIED:20241009T172450Z
UID:10000863-1734202800-1734202800@appellcenter.org
SUMMARY:THE NUTCRACKER BALLET - DANCE IT FORWARD
DESCRIPTION:
URL:https://appellcenter.org/show/the-nutcracker-ballet-dance-it-forward/
LOCATION:Strand Theatre\, 50 N George Street\, York\, PA\, 17401\, United States
CATEGORIES:Dance,Holiday
ATTACH;FMTTYPE=image/png:https://appellcenter.org/wp-content/uploads/2024-Nutcracker-Ballet-Appell-Ctr-Event-Listing-1200x600-1.png
ORGANIZER;CN="Appell Center for the Performing Arts":MAILTO:boxoffice@appellcenter.org
END:VEVENT
BEGIN:VEVENT
DTSTART;TZID=America/New_York:20241215T150000
DTEND;TZID=America/New_York:20241215T150000
DTSTAMP:20260419T093428
CREATED:20240823T150343Z
LAST-MODIFIED:20240828T155951Z
UID:10000864-1734274800-1734274800@appellcenter.org
SUMMARY:NUTCRACKER WORLDS - DANCE IT FORWARD
DESCRIPTION:
URL:https://appellcenter.org/show/nutcracker-worlds-dance-it-forward/
LOCATION:Strand Theatre\, 50 N George Street\, York\, PA\, 17401\, United States
CATEGORIES:Dance,Holiday
ATTACH;FMTTYPE=image/jpeg:https://appellcenter.org/wp-content/uploads/2024-Nutcracker-Worlds-Appell-Ctr-Event-Listing-1200x600-1.jpg
ORGANIZER;CN="Appell Center for the Performing Arts":MAILTO:boxoffice@appellcenter.org
END:VEVENT
END:VCALENDAR