BEGIN:VCALENDAR
VERSION:2.0
PRODID:-//Appell Center For The Performing Arts - ECPv6.15.20//NONSGML v1.0//EN
CALSCALE:GREGORIAN
METHOD:PUBLISH
X-ORIGINAL-URL:https://appellcenter.org
X-WR-CALDESC:Events for Appell Center For The Performing Arts
REFRESH-INTERVAL;VALUE=DURATION:PT1H
X-Robots-Tag:noindex
X-PUBLISHED-TTL:PT1H
BEGIN:VTIMEZONE
TZID:America/New_York
BEGIN:DAYLIGHT
TZOFFSETFROM:-0500
TZOFFSETTO:-0400
TZNAME:EDT
DTSTART:20250309T070000
END:DAYLIGHT
BEGIN:STANDARD
TZOFFSETFROM:-0400
TZOFFSETTO:-0500
TZNAME:EST
DTSTART:20251102T060000
END:STANDARD
BEGIN:DAYLIGHT
TZOFFSETFROM:-0500
TZOFFSETTO:-0400
TZNAME:EDT
DTSTART:20260308T070000
END:DAYLIGHT
BEGIN:STANDARD
TZOFFSETFROM:-0400
TZOFFSETTO:-0500
TZNAME:EST
DTSTART:20261101T060000
END:STANDARD
BEGIN:DAYLIGHT
TZOFFSETFROM:-0500
TZOFFSETTO:-0400
TZNAME:EDT
DTSTART:20270314T070000
END:DAYLIGHT
BEGIN:STANDARD
TZOFFSETFROM:-0400
TZOFFSETTO:-0500
TZNAME:EST
DTSTART:20271107T060000
END:STANDARD
END:VTIMEZONE
BEGIN:VEVENT
DTSTART;TZID=America/New_York:20260707T090000
DTEND;TZID=America/New_York:20260707T090000
DTSTAMP:20260420T070931
CREATED:20260302T181648Z
LAST-MODIFIED:20260302T185817Z
UID:10001276-1783414800-1783414800@appellcenter.org
SUMMARY:SOUND EFFECTS MINI-CAMP
DESCRIPTION:
URL:https://appellcenter.org/show/sound-effects-mini-camp/
LOCATION:The Studio\, 50 N George Street\, York\, PA\, 17401\, United States
CATEGORIES:Workshops & Classes
ATTACH;FMTTYPE=image/jpeg:https://appellcenter.org/wp-content/uploads/2025-Summer-Camps-Notable-11-1-scaled.jpg
ORGANIZER;CN="Appell Center for the Performing Arts":MAILTO:boxoffice@appellcenter.org
END:VEVENT
BEGIN:VEVENT
DTSTART;TZID=America/New_York:20260709T100000
DTEND;TZID=America/New_York:20260709T100000
DTSTAMP:20260420T070931
CREATED:20250313T202355Z
LAST-MODIFIED:20260302T190436Z
UID:10001004-1783591200-1783591200@appellcenter.org
SUMMARY:IMPROV COMEDY INTENSIVE - AGES 8 -12
DESCRIPTION:
URL:https://appellcenter.org/show/improv-comedy-intensive-ages-8-12/
LOCATION:The Studio\, 50 N George Street\, York\, PA\, 17401\, United States
CATEGORIES:Workshops & Classes
ATTACH;FMTTYPE=image/jpeg:https://appellcenter.org/wp-content/uploads/02.24.25_Improv_Class_Performance_JPG_49_50-scaled-e1741359449793.jpg
ORGANIZER;CN="Appell Center for the Performing Arts":MAILTO:boxoffice@appellcenter.org
END:VEVENT
BEGIN:VEVENT
DTSTART;TZID=America/New_York:20260710T100000
DTEND;TZID=America/New_York:20260710T100000
DTSTAMP:20260420T070931
CREATED:20250313T202351Z
LAST-MODIFIED:20260302T190045Z
UID:10001010-1783677600-1783677600@appellcenter.org
SUMMARY:IMPROV COMEDY INTENSIVE - AGES 13 - 18
DESCRIPTION:
URL:https://appellcenter.org/show/improv-comedy-intensive-ages-13-18/
LOCATION:The Studio\, 50 N George Street\, York\, PA\, 17401\, United States
CATEGORIES:Workshops & Classes
ATTACH;FMTTYPE=image/jpeg:https://appellcenter.org/wp-content/uploads/IMPROV2-scaled.jpg
ORGANIZER;CN="Appell Center for the Performing Arts":MAILTO:boxoffice@appellcenter.org
END:VEVENT
BEGIN:VEVENT
DTSTART;TZID=America/New_York:20260710T193000
DTEND;TZID=America/New_York:20260710T193000
DTSTAMP:20260420T070931
CREATED:20260219T151552Z
LAST-MODIFIED:20260227T145815Z
UID:10001254-1783711800-1783711800@appellcenter.org
SUMMARY:CAPLIVE: SON LITTLE - Cityfolk Tour 2026
DESCRIPTION:
URL:https://appellcenter.org/show/caplive-son-little/
LOCATION:Capitol Theatre\, 50 N George St\, York\, PA\, 17401\, United States
CATEGORIES:Concerts,New Season
ATTACH;FMTTYPE=image/jpeg:https://appellcenter.org/wp-content/uploads/SON-LITTLE-Jasmin-Valcarcel-Photography-scaled-e1771192698326.jpg
ORGANIZER;CN="Appell Center for the Performing Arts":MAILTO:boxoffice@appellcenter.org
END:VEVENT
BEGIN:VEVENT
DTSTART;TZID=America/New_York:20260711T100000
DTEND;TZID=America/New_York:20260711T100000
DTSTAMP:20260420T070931
CREATED:20250313T201835Z
LAST-MODIFIED:20260302T190120Z
UID:10001009-1783764000-1783764000@appellcenter.org
SUMMARY:IMPROV COMEDY INTENSIVE - ADULTS
DESCRIPTION:
URL:https://appellcenter.org/show/improv-comedy-intensive-adults/
LOCATION:The Studio\, 50 N George Street\, York\, PA\, 17401\, United States
CATEGORIES:Workshops & Classes
ATTACH;FMTTYPE=image/jpeg:https://appellcenter.org/wp-content/uploads/02.24.25-Improv-Class-Performance-JPG-42-scaled.jpg
ORGANIZER;CN="Appell Center for the Performing Arts":MAILTO:boxoffice@appellcenter.org
END:VEVENT
BEGIN:VEVENT
DTSTART;TZID=America/New_York:20260713T090000
DTEND;TZID=America/New_York:20260713T090000
DTSTAMP:20260420T070931
CREATED:20260302T193059Z
LAST-MODIFIED:20260302T214513Z
UID:10001277-1783933200-1783933200@appellcenter.org
SUMMARY:BUILD-A-PLAY CAMP
DESCRIPTION:
URL:https://appellcenter.org/show/build-a-play-camp/
LOCATION:The Studio\, 50 N George Street\, York\, PA\, 17401\, United States
CATEGORIES:Workshops & Classes
ATTACH;FMTTYPE=image/jpeg:https://appellcenter.org/wp-content/uploads/BuildAPlay.jpg
ORGANIZER;CN="Appell Center for the Performing Arts":MAILTO:boxoffice@appellcenter.org
END:VEVENT
BEGIN:VEVENT
DTSTART;TZID=America/New_York:20260715T193000
DTEND;TZID=America/New_York:20260715T193000
DTSTAMP:20260420T070931
CREATED:20260209T141332Z
LAST-MODIFIED:20260317T145012Z
UID:10001250-1784143800-1784143800@appellcenter.org
SUMMARY:RED Entertainment presents K-POP ICONS
DESCRIPTION:
URL:https://appellcenter.org/show/k-pop-icons/
LOCATION:Strand Theatre\, 50 N George Street\, York\, PA\, 17401\, United States
CATEGORIES:Concerts,Family Events,New Season
ATTACH;FMTTYPE=image/jpeg:https://appellcenter.org/wp-content/uploads/1920x1080.jpg
ORGANIZER;CN="Appell Center for the Performing Arts":MAILTO:boxoffice@appellcenter.org
END:VEVENT
BEGIN:VEVENT
DTSTART;TZID=America/New_York:20260720T153000
DTEND;TZID=America/New_York:20260720T153000
DTSTAMP:20260420T070931
CREATED:20260227T145733Z
LAST-MODIFIED:20260227T182631Z
UID:10001266-1784561400-1784561400@appellcenter.org
SUMMARY:Mega Events Presents THE PRINCESS CONCERT
DESCRIPTION:
URL:https://appellcenter.org/show/the-princess-concert/
LOCATION:Strand Theatre\, 50 N George Street\, York\, PA\, 17401\, United States
CATEGORIES:Concerts,Family Events,New Season
ATTACH;FMTTYPE=image/png:https://appellcenter.org/wp-content/uploads/Princess-Concert_blank1920x1080.png
ORGANIZER;CN="Appell Center for the Performing Arts":MAILTO:boxoffice@appellcenter.org
END:VEVENT
END:VCALENDAR