BEGIN:VCALENDAR
VERSION:2.0
PRODID:-//Appell Center For The Performing Arts - ECPv6.15.20//NONSGML v1.0//EN
CALSCALE:GREGORIAN
METHOD:PUBLISH
X-ORIGINAL-URL:https://appellcenter.org
X-WR-CALDESC:Events for Appell Center For The Performing Arts
REFRESH-INTERVAL;VALUE=DURATION:PT1H
X-Robots-Tag:noindex
X-PUBLISHED-TTL:PT1H
BEGIN:VTIMEZONE
TZID:America/New_York
BEGIN:DAYLIGHT
TZOFFSETFROM:-0500
TZOFFSETTO:-0400
TZNAME:EDT
DTSTART:20250309T070000
END:DAYLIGHT
BEGIN:STANDARD
TZOFFSETFROM:-0400
TZOFFSETTO:-0500
TZNAME:EST
DTSTART:20251102T060000
END:STANDARD
BEGIN:DAYLIGHT
TZOFFSETFROM:-0500
TZOFFSETTO:-0400
TZNAME:EDT
DTSTART:20260308T070000
END:DAYLIGHT
BEGIN:STANDARD
TZOFFSETFROM:-0400
TZOFFSETTO:-0500
TZNAME:EST
DTSTART:20261101T060000
END:STANDARD
BEGIN:DAYLIGHT
TZOFFSETFROM:-0500
TZOFFSETTO:-0400
TZNAME:EDT
DTSTART:20270314T070000
END:DAYLIGHT
BEGIN:STANDARD
TZOFFSETFROM:-0400
TZOFFSETTO:-0500
TZNAME:EST
DTSTART:20271107T060000
END:STANDARD
END:VTIMEZONE
BEGIN:VEVENT
DTSTART;TZID=America/New_York:20260606T180000
DTEND;TZID=America/New_York:20260606T180000
DTSTAMP:20260419T091921
CREATED:20260415T135810Z
LAST-MODIFIED:20260414T151325Z
UID:10001297-1780768800-1780768800@appellcenter.org
SUMMARY:DANCE IT FORWARD: THE JUNE SHOW - "The Other Side Of Midnight" Show #1
DESCRIPTION:
URL:https://appellcenter.org/show/dance-it-forward-june-show-2026-1/
LOCATION:Strand Theatre\, 50 N George Street\, York\, PA\, 17401\, United States
CATEGORIES:Dance
ATTACH;FMTTYPE=image/jpeg:https://appellcenter.org/wp-content/uploads/JuneShow-26-Show-1-Sat-June-6-image.jpg
ORGANIZER;CN="Appell Center for the Performing Arts":MAILTO:boxoffice@appellcenter.org
END:VEVENT
BEGIN:VEVENT
DTSTART;TZID=America/New_York:20260607T160000
DTEND;TZID=America/New_York:20260607T160000
DTSTAMP:20260419T091921
CREATED:20260415T135822Z
LAST-MODIFIED:20260415T182425Z
UID:10001298-1780848000-1780848000@appellcenter.org
SUMMARY:DANCE IT FORWARD: THE JUNE SHOW - "The Other Side Of Midnight" Show #2
DESCRIPTION:
URL:https://appellcenter.org/show/dance-it-forward-june-show-2026-2/
LOCATION:Strand Theatre\, 50 N George Street\, York\, PA\, 17401\, United States
CATEGORIES:Dance
ATTACH;FMTTYPE=image/jpeg:https://appellcenter.org/wp-content/uploads/JuneShow-26-Show-2-Sun-June-7-image.jpg
ORGANIZER;CN="Appell Center for the Performing Arts":MAILTO:boxoffice@appellcenter.org
END:VEVENT
END:VCALENDAR